BEGIN:VCALENDAR
VERSION:2.0
PRODID:-//TSV Waldenbuch 1891 e.V. - ECPv4.6.15//NONSGML v1.0//EN
CALSCALE:GREGORIAN
METHOD:PUBLISH
X-WR-CALNAME:TSV Waldenbuch 1891 e.V.
X-ORIGINAL-URL:https://www.tsv-waldenbuch.de
X-WR-CALDESC:Veranstaltungen für TSV Waldenbuch 1891 e.V.
BEGIN:VEVENT
DTSTART;VALUE=DATE:20251203
DTEND;VALUE=DATE:20251207
DTSTAMP:20260422T112924
CREATED:20251124T110103Z
LAST-MODIFIED:20251130T121313Z
UID:32531-1764720000-1765065599@www.tsv-waldenbuch.de
SUMMARY:Unsere nächsten Heimspiele in der Winterhallenrunde
DESCRIPTION:Herren 70\, Staffelliga: TA TSV Waldenbuch 1 – TA SV Leonberg/Eltingen 1\n(Mi.\, 03.12.2025\, 09:00 Uhr) \nHerren 50\, Kreisstaffel 1: TA TSV Waldenbuch 3 – TC Ameisenberg 1\n(Sa.\, 06.12.2025\, 16:00 Uhr) \n  \n
URL:https://www.tsv-waldenbuch.de/termin/unsere-naechsten-heimspiele-in-der-winterhallenrunde-18/
LOCATION:Teckstraße 24\, Waldenbuch\, 71111
GEO:48.6458582;9.152057
X-APPLE-STRUCTURED-LOCATION;VALUE=URI;X-ADDRESS=Teckstraße 24 Waldenbuch 71111;X-APPLE-RADIUS=500;X-TITLE=Teckstraße 24:geo:9.152057,48.6458582
CATEGORIES:Tennis
END:VEVENT
END:VCALENDAR