BEGIN:VCALENDAR
VERSION:2.0
PRODID:-//TSV Waldenbuch 1891 e.V. - ECPv4.6.15//NONSGML v1.0//EN
CALSCALE:GREGORIAN
METHOD:PUBLISH
X-WR-CALNAME:TSV Waldenbuch 1891 e.V.
X-ORIGINAL-URL:https://www.tsv-waldenbuch.de
X-WR-CALDESC:Veranstaltungen für TSV Waldenbuch 1891 e.V.
BEGIN:VEVENT
DTSTART;VALUE=DATE:20240714
DTEND;VALUE=DATE:20240715
DTSTAMP:20260419T123041
CREATED:20240329T192558Z
LAST-MODIFIED:20240329T192558Z
UID:27827-1720915200-1721001599@www.tsv-waldenbuch.de
SUMMARY:Vereinsmeisterschaften Turnen
DESCRIPTION:\n	
URL:https://www.tsv-waldenbuch.de/termin/vereinsmeisterschaften-turnen-2/
LOCATION:Echterdingerstraße\, Waldenbuch\, 71111
CATEGORIES:Turnen
END:VEVENT
END:VCALENDAR