BEGIN:VCALENDAR
VERSION:2.0
PRODID:-//TSV Waldenbuch 1891 e.V. - ECPv4.6.15//NONSGML v1.0//EN
CALSCALE:GREGORIAN
METHOD:PUBLISH
X-WR-CALNAME:TSV Waldenbuch 1891 e.V.
X-ORIGINAL-URL:https://www.tsv-waldenbuch.de
X-WR-CALDESC:Veranstaltungen für TSV Waldenbuch 1891 e.V.
BEGIN:VEVENT
DTSTART;VALUE=DATE:20220625
DTEND;VALUE=DATE:20220626
DTSTAMP:20260420T163824
CREATED:20220624T161738Z
LAST-MODIFIED:20220624T161738Z
UID:23136-1656115200-1656201599@www.tsv-waldenbuch.de
SUMMARY:Wir verschieben die Sonnwendfeier auf Samstag!
DESCRIPTION:Das ist buchstäblich ein Schlag ins Wasser: Wir müssen die für diesen Freitag geplante Sonnwendfeier der Tennisabteilung kurzfristig absagen. \nDie Regenfälle an diesem Nachmittag\, begleitet von Blitz und Donner\, verhindern leider\, dass die Veranstaltung wie geplant stattfinden kann. Unsere Vorfreude\, und sicherlich auch die aller feierfreudigen Tennisfreundinnen und Tennisfreunde\, wollen wir vom Regen aber nicht gänzlich wegspülen lassen. Wie es bei einem Tennisturnier üblich ist\, bei dem ein Match wegen des schlechten Wetters abgesagt und um einen Tag verlegt werden muss\, verschieben wir deshalb unsere Veranstaltung um einen Tag. Die Sonnwendfeier 2022 auf unserer Tennisanlage beginnt jetzt am Samstag\, 25. Juni\, um 19:00 Uhr. \nDie Wettervorhersage für Samstag ist deutlich besser als für diesen Freitag\, und nach zwei Jahren\, in denen Corona unsere beliebte Veranstaltung vereitelt hat\, wollen wir vermeiden\, dass die Sonnwendfeier ein drittes Mal aus- und diesmal buchstäblich ins Wasser fällt. \nSchon am Freitag war alles vorbereitet für eine stimmungsvolle Veranstaltung: Viele Mitglieder unserer Abteilung standen bereit\, um Tische und Bänke aufzustellen\, unser Gastwirt Hisham Harit hatte Speisen und Getränke vorbereitet\, die Band „the tainers“ stimmte sich auf die musikalische Unterhaltung der Gäste ein\, unsere Holzexperten Eugen Waidelich und Bodo Knüppel kümmerten sich um das Rüstzeug für das große Lagerfeuer. \nDas alles können die Besucherinnen und Besucher nun am Samstag genießen – mit einer Ausnahme: Die Band „the tainers“ hat an diesem Tag bereits ein anderes Engagement und kann deshalb nicht auf unserer Tennisanlage spielen. Für unterhaltsame Musik wird aber trotzdem gesorgt sein. Es lohnt sich also\, an diesem Samstag ab 19:00 Uhr mitzufeiern bei unserer Sonnwendfeier – gerne auch mit Freundinnen und Freunden\, zu deren Freizeitgestaltung das Tennisspielen (noch) nicht gehört. \n
URL:https://www.tsv-waldenbuch.de/termin/wir-verschieben-die-sonnwendfeier-auf-samstag/
LOCATION:Teckstraße 24\, Waldenbuch\, 71111
GEO:48.6458582;9.152057
X-APPLE-STRUCTURED-LOCATION;VALUE=URI;X-ADDRESS=Teckstraße 24 Waldenbuch 71111;X-APPLE-RADIUS=500;X-TITLE=Teckstraße 24:geo:9.152057,48.6458582
CATEGORIES:Tennis
END:VEVENT
END:VCALENDAR